BEGIN:VCALENDAR
VERSION:2.0
PRODID:-//Devpost\, Inc.//Plug and Play Foundation Small Business Innovatio
 n Sprint Hackathon//EN
CALSCALE:GREGORIAN
BEGIN:VTIMEZONE
TZID:America/Los_Angeles
BEGIN:DAYLIGHT
DTSTART:20260308T030000
TZOFFSETFROM:-0800
TZOFFSETTO:-0700
RRULE:FREQ=YEARLY;BYDAY=2SU;BYMONTH=3
TZNAME:PDT
END:DAYLIGHT
BEGIN:STANDARD
DTSTART:20261101T010000
TZOFFSETFROM:-0700
TZOFFSETTO:-0800
RRULE:FREQ=YEARLY;BYDAY=1SU;BYMONTH=11
TZNAME:PST
END:STANDARD
END:VTIMEZONE
BEGIN:VEVENT
DTSTAMP:20260426T010303Z
UID:457f40f0-337a-468a-9983-fd3c92f2f3e0
DTSTART;TZID=America/Los_Angeles:20260420T070000
DTEND;TZID=America/Los_Angeles:20260425T184500
DESCRIPTION:https://pnptcf-smb-hackathon.devpost.com/
LOCATION:440 N Wolfe Rd\, Sunnyvale\, CA 94085\, USA
SUMMARY:Plug and Play Foundation Small Business Innovation Sprint Hackathon
BEGIN:VALARM
ACTION:DISPLAY
TRIGGER:-P3D
SUMMARY:Get ready\, the hacking starts in 3 days.
END:VALARM
END:VEVENT
END:VCALENDAR
